BEGIN:VCALENDAR
VERSION:2.0
PRODID:-//AMONTario - ECPv6.15.18//NONSGML v1.0//EN
CALSCALE:GREGORIAN
METHOD:PUBLISH
X-WR-CALNAME:AMONTario
X-ORIGINAL-URL:https://www.amontario.ca
X-WR-CALDESC:Events for AMONTario
REFRESH-INTERVAL;VALUE=DURATION:PT1H
X-Robots-Tag:noindex
X-PUBLISHED-TTL:PT1H
BEGIN:VTIMEZONE
TZID:UTC
BEGIN:STANDARD
TZOFFSETFROM:+0000
TZOFFSETTO:+0000
TZNAME:UTC
DTSTART:20240101T000000
END:STANDARD
END:VTIMEZONE
BEGIN:VEVENT
DTSTART;TZID=UTC:20250306T120000
DTEND;TZID=UTC:20250306T130000
DTSTAMP:20260420T034039
CREATED:20250210T030643Z
LAST-MODIFIED:20260408T190257Z
UID:23711-1741262400-1741266000@www.amontario.ca
SUMMARY:Session 1: Proposed Levels of Service & Performance (March 6\, 2025)
DESCRIPTION:Join us for a 4-part webinar series in which we share tips and strategies for complying with the July 1\, 2025 requirements of Ontario Regulation 588/17: Asset Management Planning for Municipal Infrastructure. Each session will feature a presentation from a subject matter expert\, as well as municipal guest speakers who will share their approaches to compliance. \nRegistration is free! \nAudience: Whether you are new to the field and looking to understand the basics\, or an experienced practitioner seeking advanced strategies\, this series will provide valuable insights\, practical tips\, and real-world case studies applicable to professionals at all levels of expertise within infrastructure asset management. The content\, tools\, and templates are designed to support municipalities of all sizes. \nSession 1: Proposed Levels of Service & Performance (March 6\, 2025)\nRegister here for session 1 \nLevels of service are a crucial tool in strategic decision-making\, and in communicating with your stakeholders about service expectations. In this webinar\, AMONTario will discuss how to develop proposed (or target) levels of service\, and how proposed levels of service and performance targets connect with the other July 1 O.Reg. 588/17 requirements. Join us to learn about strategies and tools to help you understand asset performance and develop actionable levels of service targets that can drive your business planning.
URL:https://www.amontario.ca/event/session-1-proposed-levels-of-service-performance/
LOCATION:Virtual via Zoom\, Virtual
CATEGORIES:Municipal Asset Management Webinar Series
ATTACH;FMTTYPE=image/png:https://www.amontario.ca/wp-content/uploads/2021/08/logo.png
ORGANIZER;CN="AMONTario":MAILTO:info@amontario.ca
END:VEVENT
BEGIN:VEVENT
DTSTART;TZID=UTC:20250320T120000
DTEND;TZID=UTC:20250320T130000
DTSTAMP:20260420T034039
CREATED:20250210T031010Z
LAST-MODIFIED:20260408T190212Z
UID:23714-1742472000-1742475600@www.amontario.ca
SUMMARY:Session 2: Risk Assessment (March 20\, 2025)
DESCRIPTION:Join us for a 4-part webinar series in which we share tips and strategies for complying with the July 1\, 2025 requirements of Ontario Regulation 588/17: Asset Management Planning for Municipal Infrastructure. Each session will feature a presentation from a subject matter expert\, as well as municipal guest speakers who will share their approaches to compliance. \nRegistration is free! \nAudience: Whether you are new to the field and looking to understand the basics\, or an experienced practitioner seeking advanced strategies\, this series will provide valuable insights\, practical tips\, and real-world case studies applicable to professionals at all levels of expertise within infrastructure asset management. The content\, tools\, and templates are designed to support municipalities of all sizes. \nSession 2: Risk Assessment (March 20\, 2025)\nRegister here for session 2 \nEnhance strategic-decision making even further by evaluating the impact of risk on your levels of service. This session will help you understand and manage risks that could affect your proposed levels of service while ensuring compliance with Ontario Regulation 588/17. Develop a deeper understanding of the relationship between risk and levels of service\, and how to use that understanding to drive your service delivery.
URL:https://www.amontario.ca/event/session-2-risk-assessment/
LOCATION:Virtual via Zoom\, Virtual
CATEGORIES:Municipal Asset Management Webinar Series
ATTACH;FMTTYPE=image/png:https://www.amontario.ca/wp-content/uploads/2021/08/logo.png
ORGANIZER;CN="AMONTario":MAILTO:info@amontario.ca
END:VEVENT
BEGIN:VEVENT
DTSTART;TZID=UTC:20250327T120000
DTEND;TZID=UTC:20250327T130000
DTSTAMP:20260420T034039
CREATED:20250210T031134Z
LAST-MODIFIED:20260408T190123Z
UID:23716-1743076800-1743080400@www.amontario.ca
SUMMARY:Session 3: Lifecycle Management & Financial Strategy (March 27\, 2025)
DESCRIPTION:Join us for a 4-part webinar series in which we share tips and strategies for complying with the July 1\, 2025 requirements of Ontario Regulation 588/17: Asset Management Planning for Municipal Infrastructure. Each session will feature a presentation from a subject matter expert\, as well as municipal guest speakers who will share their approaches to compliance. \nRegistration is free! \nAudience: Whether you are new to the field and looking to understand the basics\, or an experienced practitioner seeking advanced strategies\, this series will provide valuable insights\, practical tips\, and real-world case studies applicable to professionals at all levels of expertise within infrastructure asset management. The content\, tools\, and templates are designed to support municipalities of all sizes. \nSession 3: Lifecycle Management & Financial Strategy (March 27\, 2025)\nRegister here for session 3 \nRisk and levels of service drive your lifecycle management activities—when to take action\, what kind of action\, and how to monitor the impacts of that action. Each of these actions have financial implications that must be taken into account in your asset management planning and capital budgeting in order to ensure sustainable service delivery. Join us to learn about costing methodologies\, performance monitoring strategies and lifecycle activities to enable development of a lifecycle management plan and financial strategy that meets O. Reg 588/17 2025 requirements.
URL:https://www.amontario.ca/event/session-3-lifecycle-management-financial-strategy-march-27-2025/
LOCATION:Virtual via Zoom\, Virtual
CATEGORIES:Municipal Asset Management Webinar Series
ATTACH;FMTTYPE=image/png:https://www.amontario.ca/wp-content/uploads/2021/08/logo.png
ORGANIZER;CN="AMONTario":MAILTO:info@amontario.ca
END:VEVENT
END:VCALENDAR