BEGIN:VCALENDAR
VERSION:2.0
PRODID:-//AMONTario - ECPv6.15.18//NONSGML v1.0//EN
CALSCALE:GREGORIAN
METHOD:PUBLISH
X-ORIGINAL-URL:https://www.amontario.ca
X-WR-CALDESC:Events for AMONTario
REFRESH-INTERVAL;VALUE=DURATION:PT1H
X-Robots-Tag:noindex
X-PUBLISHED-TTL:PT1H
BEGIN:VTIMEZONE
TZID:UTC
BEGIN:STANDARD
TZOFFSETFROM:+0000
TZOFFSETTO:+0000
TZNAME:UTC
DTSTART:20250101T000000
END:STANDARD
END:VTIMEZONE
BEGIN:VEVENT
DTSTART;TZID=UTC:20260519T140000
DTEND;TZID=UTC:20260519T150000
DTSTAMP:20260423T023850
CREATED:20260421T022923Z
LAST-MODIFIED:20260421T023058Z
UID:24107-1779199200-1779202800@www.amontario.ca
SUMMARY:Natural Asset Management Valuation Guide: Forest and Tree Assets
DESCRIPTION:This webinar will introduce the Natural Asset Management Valuation Guide: Forest and Tree Assets\, developed by AMONTario\, Credit Valley Conservation\, and Toronto and Region Conservation Authority\, with support from the Greenbelt Foundation. \nThe session will highlight key concepts and practical steps for valuing forests\, hedges\, and tree assets to support asset management planning. \nClick Here to Register.
URL:https://www.amontario.ca/event/natural-asset-management-valuation-guide-forest-and-tree-assets/
END:VEVENT
BEGIN:VEVENT
DTSTART;TZID=UTC:20260528T130000
DTEND;TZID=UTC:20260528T160000
DTSTAMP:20260423T023850
CREATED:20260423T021749Z
LAST-MODIFIED:20260423T021749Z
UID:24125-1779973200-1779984000@www.amontario.ca
SUMMARY:AMONTario Workshop – Progress Over Perfection: Improving Data Governance for Grey and Green Infrastructure
DESCRIPTION:Join us for a practical and engaging virtual workshop designed with small and medium-sized municipalities in mind\, while offering valuable insights for communities of all sizes. Through a mix of presentations\, panel discussions\, and interactive dialogue\, we’ll explore how to build trust in your asset management data and take meaningful\, achievable steps toward managing natural assets. \nThe half-day workshop will address two key topics: \n\nPart 1: Asset Management You Can Trust: Data Quality & Governance for Municipalities \nPart 2: Natural Assets: What Small Municipalities Can Practically Do \n\nWhether you’re just getting started or refining your approach\, you’ll leave with actionable ideas you can apply right away. \nCome ready to share your experiences\, ask questions\, and connect with colleagues from across Ontario who are facing similar challenges and opportunities. \nClick here to register.
URL:https://www.amontario.ca/event/amontario-workshop-progress-over-perfection-improving-data-governance-for-grey-and-green-infrastructure/
END:VEVENT
END:VCALENDAR